BEGIN:VCALENDAR
VERSION:2.0
PRODID:-//Olio Kensington Street - ECPv6.15.11//NONSGML v1.0//EN
CALSCALE:GREGORIAN
METHOD:PUBLISH
X-WR-CALNAME:Olio Kensington Street
X-ORIGINAL-URL:https://olio.kensingtonstreet.com.au
X-WR-CALDESC:Events for Olio Kensington Street
REFRESH-INTERVAL;VALUE=DURATION:PT1H
X-Robots-Tag:noindex
X-PUBLISHED-TTL:PT1H
BEGIN:VTIMEZONE
TZID:Australia/Sydney
BEGIN:STANDARD
TZOFFSETFROM:+1100
TZOFFSETTO:+1000
TZNAME:AEST
DTSTART:20200404T160000
END:STANDARD
BEGIN:DAYLIGHT
TZOFFSETFROM:+1000
TZOFFSETTO:+1100
TZNAME:AEDT
DTSTART:20201003T160000
END:DAYLIGHT
BEGIN:STANDARD
TZOFFSETFROM:+1100
TZOFFSETTO:+1000
TZNAME:AEST
DTSTART:20210403T160000
END:STANDARD
BEGIN:DAYLIGHT
TZOFFSETFROM:+1000
TZOFFSETTO:+1100
TZNAME:AEDT
DTSTART:20211002T160000
END:DAYLIGHT
BEGIN:STANDARD
TZOFFSETFROM:+1100
TZOFFSETTO:+1000
TZNAME:AEST
DTSTART:20220402T160000
END:STANDARD
BEGIN:DAYLIGHT
TZOFFSETFROM:+1000
TZOFFSETTO:+1100
TZNAME:AEDT
DTSTART:20221001T160000
END:DAYLIGHT
END:VTIMEZONE
BEGIN:VEVENT
DTSTART;TZID=Australia/Sydney:20210127T183000
DTEND;TZID=Australia/Sydney:20210127T213000
DTSTAMP:20260425T010013
CREATED:20201224T010048Z
LAST-MODIFIED:20201224T013815Z
UID:8803-1611772200-1611783000@olio.kensingtonstreet.com.au
SUMMARY:Chef's Table: Sicilian Street Food
DESCRIPTION:Chef lino will have you transported to the markets of Palermo when devouring some of Sicialies most popular street foods. \nStreet food in Sicily was hugely popular well before food magazines made this type of food cool! Refered to by Sicilians as ‘schitiscchiu\, meaning: consuming a rich meal in the open air and in good company. \nAlong every street corner\, and in every market\, kiosk and hole in the wall\, there are stalls offering ready-to-eat local food. Everything is hyper-regional – with menu items made by ingredients that you can only find within hundreds of metres of the stall! \nChef Lino is paying homage to his traditions by bringing the street food of Sicily to Sydney! From PANI CUNZATU (warm bread with tomato\, garlic and anchovies)\, to SANDE BECCAFICU (baked fresh srdine with cheese\, raisins and pine nuts) to GRANITA MANDORLE (fresh almond granita with whipped cream) you’ll be in heaven at this fun and flavoursome street food party! \nBUY TICKETSDOWNLOAD MENU
URL:https://olio.kensingtonstreet.com.au/event/chefs-table-sicilian-street-food-2/
LOCATION:Olio Kensington Street\, Level 2\, 2-10 Kensington Street\, Chippendale\, NSW\, 2008
CATEGORIES:Chef's Table,Featured
ATTACH;FMTTYPE=image/png:https://olio.kensingtonstreet.com.au/wp-content/uploads/2020/12/OLIO_Chefs-Table_Banner_20201224.png
END:VEVENT
END:VCALENDAR