BEGIN:VCALENDAR
VERSION:2.0
PRODID:-//Olio Kensington Street - ECPv6.15.11//NONSGML v1.0//EN
CALSCALE:GREGORIAN
METHOD:PUBLISH
X-WR-CALNAME:Olio Kensington Street
X-ORIGINAL-URL:https://olio.kensingtonstreet.com.au
X-WR-CALDESC:Events for Olio Kensington Street
REFRESH-INTERVAL;VALUE=DURATION:PT1H
X-Robots-Tag:noindex
X-PUBLISHED-TTL:PT1H
BEGIN:VTIMEZONE
TZID:Australia/Sydney
BEGIN:STANDARD
TZOFFSETFROM:+1100
TZOFFSETTO:+1000
TZNAME:AEST
DTSTART:20190406T160000
END:STANDARD
BEGIN:DAYLIGHT
TZOFFSETFROM:+1000
TZOFFSETTO:+1100
TZNAME:AEDT
DTSTART:20191005T160000
END:DAYLIGHT
BEGIN:STANDARD
TZOFFSETFROM:+1100
TZOFFSETTO:+1000
TZNAME:AEST
DTSTART:20200404T160000
END:STANDARD
BEGIN:DAYLIGHT
TZOFFSETFROM:+1000
TZOFFSETTO:+1100
TZNAME:AEDT
DTSTART:20201003T160000
END:DAYLIGHT
BEGIN:STANDARD
TZOFFSETFROM:+1100
TZOFFSETTO:+1000
TZNAME:AEST
DTSTART:20210403T160000
END:STANDARD
BEGIN:DAYLIGHT
TZOFFSETFROM:+1000
TZOFFSETTO:+1100
TZNAME:AEDT
DTSTART:20211002T160000
END:DAYLIGHT
END:VTIMEZONE
BEGIN:VEVENT
DTSTART;TZID=Australia/Sydney:20200930T190000
DTEND;TZID=Australia/Sydney:20201001T210000
DTSTAMP:20260425T005553
CREATED:20200915T083447Z
LAST-MODIFIED:20200922T090921Z
UID:8101-1601492400-1601586000@olio.kensingtonstreet.com.au
SUMMARY:Chef’s Table: The Food and Wine of Northern Italy
DESCRIPTION:CHEF’S TABLE: The Food & Wine of Northern Italy$88pp • Add $68pp for matched winePack your bags! Olio is taking you on a trip to Northern Italy! \nThe culinary diversity of Italian food from region to region is staggering – and an extremely delicious adventure for any food lover! In the latest Chef’s Table from Olio\, we’re travelling north to explore the food and wine of Itay’s eight regions that form the European cap of the country. \nItaly’s northern topography is a varied landscape of mountains\, coastline\, lakes\, rivers and rich farmland. The cuisine of Italy’s north reflects this with ingredients ranging from fine meats\, alpine cheeses\, to various pasta\, polenta\, and risotto\, as well as fresh seafood. You’ll also find hints of neighbouring countries in the recipes as well; France\, Switzerland\, Austria\, and Slovenia \nFor any vino enthusiast\, the wines of Northern Italy are some of the most prized and well-known in the world. Arguably the two most important regions in Northern Italy are Piedmont and Veneto\, with grapes from these regions some of the most expensive and sought after in all of Europe. \nOlio’s Northern Italian Chef’s Table pays homage to the food and wine of the region. With this specially curated menu\, chef Lino has designed a menu exemplifying flavours of the north\, matched to the most delicious drops of the terroir. Join us for this unforgettable night as you journey into the northern gastronomy of Italy! \n\nWednesday\, 30th September – SOLD OUT\nThursday\, 1st October – Book now to avoid disappointment!\n\nBUY TICKETS
URL:https://olio.kensingtonstreet.com.au/event/chefs-table-the-food-and-wine-of-northern-italy/
LOCATION:Olio Kensington Street\, Level 2\, 2-10 Kensington Street\, Chippendale\, NSW\, 2008
CATEGORIES:Chef's Table,Featured
ATTACH;FMTTYPE=image/jpeg:https://olio.kensingtonstreet.com.au/wp-content/uploads/2020/09/Olio_event_Northern-Italy_1200x800px.jpg
END:VEVENT
END:VCALENDAR