BEGIN:VCALENDAR
VERSION:2.0
PRODID:-//Olio Kensington Street - ECPv4.9.11//NONSGML v1.0//EN
CALSCALE:GREGORIAN
METHOD:PUBLISH
X-WR-CALNAME:Olio Kensington Street
X-ORIGINAL-URL:https://olio.kensingtonstreet.com.au
X-WR-CALDESC:Events for Olio Kensington Street
BEGIN:VTIMEZONE
TZID:Australia/Sydney
BEGIN:STANDARD
TZOFFSETFROM:+1100
TZOFFSETTO:+1000
TZNAME:AEST
DTSTART:20190406T160000
END:STANDARD
BEGIN:DAYLIGHT
TZOFFSETFROM:+1000
TZOFFSETTO:+1100
TZNAME:AEDT
DTSTART:20191005T160000
END:DAYLIGHT
END:VTIMEZONE
BEGIN:VEVENT
DTSTART;VALUE=DATE:20190621
DTEND;VALUE=DATE:20190624
DTSTAMP:20200301T033425
CREATED:20190528T063815Z
LAST-MODIFIED:20191105T081759Z
UID:4888-1561075200-1561334399@olio.kensingtonstreet.com.au
SUMMARY:Good Food and Wine Show 2019
DESCRIPTION:\n					\n						Sydney Good Food and Wine Show 2019Don’t miss out on a great day out of food\, wine and chefs!Kensington Street’s Olio is heading to the Sydney Good Food and Wine Show for three days from June 21 – 23 at Darling Harbour.  \nEnjoy a fantastic day out with friends\, sampling the latest foods\, wines and home products. Featuring celebrity chefs\, inspiring masterclasses and hundreds of local and international exhibitors at each show\, it’s the perfect day out for all food and wine lovers. \n.fusion-button.button-1 {border-radius:0px;}BUY TICKETS\n\n					\n				\n
URL:https://olio.kensingtonstreet.com.au/event/good-food-and-wine-show-2019/
LOCATION:International Convention Centre\, 14 Darling Drive\, Sydney\, NSW\, 2000
CATEGORIES:Sydney Good Food and Wine Show
ATTACH;FMTTYPE=image/jpeg:https://olio.kensingtonstreet.com.au/wp-content/uploads/2019/05/KS_Event_GoodFoodShow_1200x800px.jpg
END:VEVENT
END:VCALENDAR