BEGIN:VCALENDAR
VERSION:2.0
PRODID:-//Olio Kensington Street - ECPv6.15.11//NONSGML v1.0//EN
CALSCALE:GREGORIAN
METHOD:PUBLISH
X-WR-CALNAME:Olio Kensington Street
X-ORIGINAL-URL:https://olio.kensingtonstreet.com.au
X-WR-CALDESC:Events for Olio Kensington Street
REFRESH-INTERVAL;VALUE=DURATION:PT1H
X-Robots-Tag:noindex
X-PUBLISHED-TTL:PT1H
BEGIN:VTIMEZONE
TZID:Australia/Sydney
BEGIN:STANDARD
TZOFFSETFROM:+1100
TZOFFSETTO:+1000
TZNAME:AEST
DTSTART:20190406T160000
END:STANDARD
BEGIN:DAYLIGHT
TZOFFSETFROM:+1000
TZOFFSETTO:+1100
TZNAME:AEDT
DTSTART:20191005T160000
END:DAYLIGHT
BEGIN:STANDARD
TZOFFSETFROM:+1100
TZOFFSETTO:+1000
TZNAME:AEST
DTSTART:20200404T160000
END:STANDARD
BEGIN:DAYLIGHT
TZOFFSETFROM:+1000
TZOFFSETTO:+1100
TZNAME:AEDT
DTSTART:20201003T160000
END:DAYLIGHT
BEGIN:STANDARD
TZOFFSETFROM:+1100
TZOFFSETTO:+1000
TZNAME:AEST
DTSTART:20210403T160000
END:STANDARD
BEGIN:DAYLIGHT
TZOFFSETFROM:+1000
TZOFFSETTO:+1100
TZNAME:AEDT
DTSTART:20211002T160000
END:DAYLIGHT
END:VTIMEZONE
BEGIN:VEVENT
DTSTART;TZID=Australia/Sydney:20201031T120000
DTEND;TZID=Australia/Sydney:20201031T150000
DTSTAMP:20260425T004653
CREATED:20201001T051918Z
LAST-MODIFIED:20201001T052032Z
UID:8166-1604145600-1604156400@olio.kensingtonstreet.com.au
SUMMARY:Long Lunch Seafood BBQ: Special Brix Edition
DESCRIPTION:Long Lunch Seafood BBQ – Special Brix EditionOlio’s Long Lunch Seafood BBQ has gathered a cult following! Every Saturday\, Chef Lino fires up the coals to showcase his passion for seafood\, being the true Sicilian he is\, and BBQs the very best fruit de mer from the leaders in premium seafood\, Manettas Seafood Market. \nThe Long Lunches really couldn’t get any better… unless you add Sydney-based rum distillers\, Brix\, into the mix! We’re keeping the price the same\, but adding a few tasty libations to the menu. You’ll also enjoy a Brix White Rum Spritz on arrival\, the perfect aperitivo to get your taste-buds excited. Our pop-up Brix Bar will be staffed with an expert mixologist making the best rum cocktails going\, plus showcasing their brand-new Urban Cane Agricole style rum\, complete with a live sugar cane press. We’ve also booked some live music to make this an afternoon you won’t forget! So book now food and rum lovers\, as we anticipate this event will sell out fast! \nLearn more about Brix: https://www.brixdistillers.com/ \nBOOK NOW
URL:https://olio.kensingtonstreet.com.au/event/long-lunch-seafood-bbq-special-brix-edition/
LOCATION:Olio Kensington Street\, Level 2\, 2-10 Kensington Street\, Chippendale\, NSW\, 2008
CATEGORIES:Featured
ATTACH;FMTTYPE=image/jpeg:https://olio.kensingtonstreet.com.au/wp-content/uploads/2020/10/seafood-lunch-Olio-Brix.jpg
END:VEVENT
END:VCALENDAR