BEGIN:VCALENDAR
VERSION:2.0
PRODID:-//Olio Kensington Street - ECPv6.15.11//NONSGML v1.0//EN
CALSCALE:GREGORIAN
METHOD:PUBLISH
X-WR-CALNAME:Olio Kensington Street
X-ORIGINAL-URL:https://olio.kensingtonstreet.com.au
X-WR-CALDESC:Events for Olio Kensington Street
REFRESH-INTERVAL;VALUE=DURATION:PT1H
X-Robots-Tag:noindex
X-PUBLISHED-TTL:PT1H
BEGIN:VTIMEZONE
TZID:Australia/Sydney
BEGIN:STANDARD
TZOFFSETFROM:+1100
TZOFFSETTO:+1000
TZNAME:AEST
DTSTART:20190406T160000
END:STANDARD
BEGIN:DAYLIGHT
TZOFFSETFROM:+1000
TZOFFSETTO:+1100
TZNAME:AEDT
DTSTART:20191005T160000
END:DAYLIGHT
BEGIN:STANDARD
TZOFFSETFROM:+1100
TZOFFSETTO:+1000
TZNAME:AEST
DTSTART:20200404T160000
END:STANDARD
BEGIN:DAYLIGHT
TZOFFSETFROM:+1000
TZOFFSETTO:+1100
TZNAME:AEDT
DTSTART:20201003T160000
END:DAYLIGHT
BEGIN:STANDARD
TZOFFSETFROM:+1100
TZOFFSETTO:+1000
TZNAME:AEST
DTSTART:20210403T160000
END:STANDARD
BEGIN:DAYLIGHT
TZOFFSETFROM:+1000
TZOFFSETTO:+1100
TZNAME:AEDT
DTSTART:20211002T160000
END:DAYLIGHT
END:VTIMEZONE
BEGIN:VEVENT
DTSTART;TZID=Australia/Sydney:20201231T180000
DTEND;TZID=Australia/Sydney:20201231T220000
DTSTAMP:20260425T011851
CREATED:20201116T234434Z
LAST-MODIFIED:20201116T234434Z
UID:8387-1609437600-1609452000@olio.kensingtonstreet.com.au
SUMMARY:New Years Eve @ Olio with Mumm Champagne
DESCRIPTION:Celebrate in style at Oliowith our exclusive partners G.H Mumm2020 will be a year many of us will remember for the rest of our lives\, so in true 2020 style make sure your New Years Eve is an unforgettable night! Let your hair down\, put your sparkle on and raise a glass to 2021. \nAward-winning chef Lino Sauro has curated a special menu of beautiful Sicilian dishes all perfectly matched to Mumm Champagne. Situated amongst the elegant exposed brick of the Old Rum Store\, you’ll truly feel as if you’ve been transported to southern Italy. \n6 courses with a glass of Mumm Grand Cordon on arrival – $149pp.  \n31st December\, two seating’s available: 6pm and 8pm. \nBUY TICKETS
URL:https://olio.kensingtonstreet.com.au/event/new-years-eve-olio-with-mumm-champagne/
LOCATION:Olio Kensington Street\, Level 2\, 2-10 Kensington Street\, Chippendale\, NSW\, 2008
CATEGORIES:Featured,New Years Eve
ATTACH;FMTTYPE=image/jpeg:https://olio.kensingtonstreet.com.au/wp-content/uploads/2020/11/OLIO_NYE-2020_1200x800px.jpg
END:VEVENT
END:VCALENDAR