BEGIN:VCALENDAR
VERSION:2.0
PRODID:-//Olio Kensington Street - ECPv6.15.11//NONSGML v1.0//EN
CALSCALE:GREGORIAN
METHOD:PUBLISH
X-WR-CALNAME:Olio Kensington Street
X-ORIGINAL-URL:https://olio.kensingtonstreet.com.au
X-WR-CALDESC:Events for Olio Kensington Street
REFRESH-INTERVAL;VALUE=DURATION:PT1H
X-Robots-Tag:noindex
X-PUBLISHED-TTL:PT1H
BEGIN:VTIMEZONE
TZID:Australia/Sydney
BEGIN:STANDARD
TZOFFSETFROM:+1100
TZOFFSETTO:+1000
TZNAME:AEST
DTSTART:20200404T160000
END:STANDARD
BEGIN:DAYLIGHT
TZOFFSETFROM:+1000
TZOFFSETTO:+1100
TZNAME:AEDT
DTSTART:20201003T160000
END:DAYLIGHT
BEGIN:STANDARD
TZOFFSETFROM:+1100
TZOFFSETTO:+1000
TZNAME:AEST
DTSTART:20210403T160000
END:STANDARD
BEGIN:DAYLIGHT
TZOFFSETFROM:+1000
TZOFFSETTO:+1100
TZNAME:AEDT
DTSTART:20211002T160000
END:DAYLIGHT
BEGIN:STANDARD
TZOFFSETFROM:+1100
TZOFFSETTO:+1000
TZNAME:AEST
DTSTART:20220402T160000
END:STANDARD
BEGIN:DAYLIGHT
TZOFFSETFROM:+1000
TZOFFSETTO:+1100
TZNAME:AEDT
DTSTART:20221001T160000
END:DAYLIGHT
END:VTIMEZONE
BEGIN:VEVENT
DTSTART;TZID=Australia/Sydney:20210212T180000
DTEND;TZID=Australia/Sydney:20210214T220000
DTSTAMP:20260425T005733
CREATED:20201224T014757Z
LAST-MODIFIED:20210204T011417Z
UID:8813-1613152800-1613340000@olio.kensingtonstreet.com.au
SUMMARY:San Valentino at Olio
DESCRIPTION:Experience Valentines Day the Sicilian wayThere is a reason Italian are known for their language of love\, so you can trust us when it comes to romance. With a rich history influenced by culture\, we know a thing or two about love\, food\, and everything in between. \nOlio is the perfect setting for a romantic dinner\, situated amongst the exposed brick and traditional Sicilian tiles\, you’ll feel as if you’ve been transported to Southern Italy\, sipping on oysters and indulging in homemade marron tagliolini. \nEnjoy 7-courses and a glass of Mumm Rose Champagne on arrival – $150pp. \nBOOK NOW
URL:https://olio.kensingtonstreet.com.au/event/san-valentino-at-olio/
LOCATION:Olio Kensington Street\, Level 2\, 2-10 Kensington Street\, Chippendale\, NSW\, 2008
CATEGORIES:Featured,Recent,Valentine's Day
ATTACH;FMTTYPE=image/jpeg:https://olio.kensingtonstreet.com.au/wp-content/uploads/2020/12/Olio-Valentines-web-banner-2021.jpg
END:VEVENT
END:VCALENDAR