BEGIN:VCALENDAR
VERSION:2.0
PRODID:-//Olio Kensington Street - ECPv6.15.11//NONSGML v1.0//EN
CALSCALE:GREGORIAN
METHOD:PUBLISH
X-WR-CALNAME:Olio Kensington Street
X-ORIGINAL-URL:https://olio.kensingtonstreet.com.au
X-WR-CALDESC:Events for Olio Kensington Street
REFRESH-INTERVAL;VALUE=DURATION:PT1H
X-Robots-Tag:noindex
X-PUBLISHED-TTL:PT1H
BEGIN:VTIMEZONE
TZID:Australia/Sydney
BEGIN:STANDARD
TZOFFSETFROM:+1100
TZOFFSETTO:+1000
TZNAME:AEST
DTSTART:20180331T160000
END:STANDARD
BEGIN:DAYLIGHT
TZOFFSETFROM:+1000
TZOFFSETTO:+1100
TZNAME:AEDT
DTSTART:20181006T160000
END:DAYLIGHT
BEGIN:STANDARD
TZOFFSETFROM:+1100
TZOFFSETTO:+1000
TZNAME:AEST
DTSTART:20190406T160000
END:STANDARD
BEGIN:DAYLIGHT
TZOFFSETFROM:+1000
TZOFFSETTO:+1100
TZNAME:AEDT
DTSTART:20191005T160000
END:DAYLIGHT
BEGIN:STANDARD
TZOFFSETFROM:+1100
TZOFFSETTO:+1000
TZNAME:AEST
DTSTART:20200404T160000
END:STANDARD
BEGIN:DAYLIGHT
TZOFFSETFROM:+1000
TZOFFSETTO:+1100
TZNAME:AEDT
DTSTART:20201003T160000
END:DAYLIGHT
END:VTIMEZONE
BEGIN:VEVENT
DTSTART;TZID=Australia/Sydney:20191231T180000
DTEND;TZID=Australia/Sydney:20191231T223000
DTSTAMP:20260425T053649
CREATED:20191211T053932Z
LAST-MODIFIED:20200101T021419Z
UID:6789-1577815200-1577831400@olio.kensingtonstreet.com.au
SUMMARY:New Year's Eve Degustation Menu
DESCRIPTION:NEW YEAR’S EVE DEGUSTATION MENUTuesday 31st DecemberNew Year’s Eve plans? Have a celebratory dinner\, Olio style! \nTreat yourself to an opulent Sicilian degustation\, then wander on down to Darling Harbour fireworks – just a 5 minute walk away! \nWe have 2 seatings available: \n\n6pm $138pp\n8:30pm $128pp\n\nBOOK 6:00PM SITTINGBOOK 8:30PM SITTINGVIEW MENU
URL:https://olio.kensingtonstreet.com.au/event/new-year-degustation-menu/
LOCATION:Olio Kensington Street\, Level 2\, 2-10 Kensington Street\, Chippendale\, NSW\, 2008
CATEGORIES:Recent
ATTACH;FMTTYPE=image/jpeg:https://olio.kensingtonstreet.com.au/wp-content/uploads/2019/12/olio-new-year-degustation.jpg
END:VEVENT
BEGIN:VEVENT
DTSTART;VALUE=DATE:20191201
DTEND;VALUE=DATE:20200101
DTSTAMP:20260425T053649
CREATED:20191118T053733Z
LAST-MODIFIED:20200101T021430Z
UID:6669-1575158400-1577836799@olio.kensingtonstreet.com.au
SUMMARY:Christmas on Kensington Street
DESCRIPTION:CHRISTMAS MENUALL DECEMBER 2019We’re on a mission to make Christmas fuss-free and extra special! We’ve curated a festive menu\, designed to showcase the best dishes at the best price from our restaurant. \nSleigh your Christmas lunch or dinner with this easy-peasy and downright delicious Christmas menu at Olio. \nThree courses $68pp and four courses $79pp. \nVIEW MENUBOOK NOW
URL:https://olio.kensingtonstreet.com.au/event/christmas-on-kensington-street/
LOCATION:Olio Kensington Street\, Level 2\, 2-10 Kensington Street\, Chippendale\, NSW\, 2008
CATEGORIES:Christmas,Recent
ATTACH;FMTTYPE=image/jpeg:https://olio.kensingtonstreet.com.au/wp-content/uploads/2019/11/KS_Christmas-2019_Whats-On-Graphic-2.jpg
END:VEVENT
BEGIN:VEVENT
DTSTART;TZID=Australia/Sydney:20191127T183000
DTEND;TZID=Australia/Sydney:20191127T213000
DTSTAMP:20260425T053649
CREATED:20191028T054849Z
LAST-MODIFIED:20191210T231829Z
UID:6588-1574879400-1574890200@olio.kensingtonstreet.com.au
SUMMARY:White Truffle Chef’s Table
DESCRIPTION:Exclusive White Truffle Chef’s Table @ OlioSpecial Degustation MenuHave you tasted the rare white truffle? \nNow’s your chance with this invitation to Olio’s White Truffle Chef’s Table. \nJoin Olio’s award-winning Sicilian chef Lino Sauro as he celebrates one of the rarest\, and most expensive\, delicacies in the world. \nThere are only 12 spots available for this intimate dinner on Wednesday\, 27 November. You’re invited to indulge in this once in a lifetime five-course degustation\, served with matched wines selected by Olio’s Sommelier. \nCalled the ‘Truffle of the White Madonna’\, this delicacy is found only in Italy’s Northern and central regions\, particularly Alba and Piedmont. Far superior to the black truffle\, the white truffle is by far the most precious of all truffles\, its flavour formed by the unique natural environment in one of Italy’s most treasured culinary areas. \nWith its prized earthy flavour\, the white truffle’s subtle and complex aroma is honoured in this degustation with classic pairings such as sea urchin\, Iberico pork\, and handmade ravioli. Please see the full menu attached. \nAs bookings are strictly limited\, please book quickly to avoid disappointment. \nVIEW MENUBOOK NOW
URL:https://olio.kensingtonstreet.com.au/event/white-truffle/
LOCATION:NSW
CATEGORIES:Chef's Table,Recent
ATTACH;FMTTYPE=image/jpeg:https://olio.kensingtonstreet.com.au/wp-content/uploads/2019/10/Olio_Event_White-Truffle_1200x800px.jpg
END:VEVENT
BEGIN:VEVENT
DTSTART;TZID=Australia/Sydney:20191105T120000
DTEND;TZID=Australia/Sydney:20191105T170000
DTSTAMP:20260425T053649
CREATED:20190912T084809Z
LAST-MODIFIED:20191105T081719Z
UID:6383-1572955200-1572973200@olio.kensingtonstreet.com.au
SUMMARY:Melbourne Cup @ Olio
DESCRIPTION:MELBOURNE CUPTUESDAY\, 5 NOVEMBER 2019Make it one to remember at Olio. \nSpaces are available at Olio Kensington Street for group bookings. Check out our set menu… \nVIEW MENUYou won’t miss a minute of the action from Flemington with screens broadcasting the day’s racing\, as well as best dressed prizes. \nBOOK NOW
URL:https://olio.kensingtonstreet.com.au/event/melbourne-cup-olio/
LOCATION:Olio Kensington Street\, Level 2\, 2-10 Kensington Street\, Chippendale\, NSW\, 2008
CATEGORIES:Melbourne Cup,Recent
ATTACH;FMTTYPE=image/jpeg:https://olio.kensingtonstreet.com.au/wp-content/uploads/2019/09/KS_Event_Melbourne-Cup-2019_Image_1200x800px.jpg
END:VEVENT
BEGIN:VEVENT
DTSTART;TZID=Australia/Sydney:20191009T183000
DTEND;TZID=Australia/Sydney:20191009T220000
DTSTAMP:20260425T053649
CREATED:20190925T060324Z
LAST-MODIFIED:20191011T013526Z
UID:6440-1570645800-1570658400@olio.kensingtonstreet.com.au
SUMMARY:Chef's Table: Tuna!
DESCRIPTION:CHEF’S TABLE – TUNAWednesday 9th October 2019\, 6.30pm – 10:00pm.If you know us at all\, you know we’re obsessed with seafood – with a particular penchant for sustainable seafood. \nThis month\, for our Chef’s Table we’ve decided to add a little bit of knowledge to your dining experience. Come on a gastronomic journey with Chef Lino as he schools you on all things Tuna. \nOver the course of the evening\, you’ll learn about sustainability and fishing\, the difference between wild catch and farmed fishing\, how to fillet a 40 kilo tuna (right in front of you!) and the subtleties in the cooking process that will enhance the flavours of the dish. All tips and tricks for you to take home and show off at a later date! \nWhilst basking in this new knowledge\, you’ll be treated to a six-course feast of Tuna cooked every which way – think raw\, marinated\, cured\, stewed\, torched\, chargrilled or smoked – you name it\, we’ll prepare and serve it. \nBy the end of this evening\, you’ll be a tuna aficionado \nBUY TICKETS
URL:https://olio.kensingtonstreet.com.au/event/tuna/
LOCATION:NSW
CATEGORIES:Chef's Table,Recent
ATTACH;FMTTYPE=image/jpeg:https://olio.kensingtonstreet.com.au/wp-content/uploads/2019/07/bbf2f719-60c1-4334-97fd-e7b67fa18814.jpg
END:VEVENT
BEGIN:VEVENT
DTSTART;VALUE=DATE:20190904
DTEND;VALUE=DATE:20190906
DTSTAMP:20260425T053649
CREATED:20190327T061101Z
LAST-MODIFIED:20190912T085012Z
UID:4218-1567555200-1567727999@olio.kensingtonstreet.com.au
SUMMARY:Four Hands with Paul Longworth
DESCRIPTION:Paul Longworth from Rhubarb\, Singapore1 Michelin StarChef Paul Longworth has had a career spanning continents\, with stints at Racine\, Knightsbridge\, a classic French bourgeois restaurant serving high quality brasserie cuisine and awarded “Best New Restaurant”\, “Best French Restaurant”and “Restauraneurs Restaurant of the Year” \nFollowing this\, Longworth worked under renowned chef Pascal Aussignac at Michelin starred Club Gascon\, in London. A defining moment in his career\, he was able to see food from another perspective\, one that still had strong French roots but from a contemporary view point. \nThis wealth of experience led to his very own venture Rhubarb\, working with a small\, fine seasonal menu focusing on his contemporary approach to French Gastronomy. \nABOUT FOUR HANDS \nThe third installment of sell-out series\, Four Hands\, returns in 2019 with a fresh lineup of international Michelin-starred chefs. The residency will be led by our very own Chef Lino Sauro of Olio Kensington Street and Gattopardo\, Singapore. For two nights only\, each guest chef will collaborate with Chef Lino on a gastronomic menu presenting the best of their cuisine in Kensington Street’s The Private Kitchen. \nBUY TICKETS
URL:https://olio.kensingtonstreet.com.au/event/four-hands-with-paul-longworth/
LOCATION:The Private Kitchen\, Level 3\, The Old Rum Store\, 2-10 Kensington Street\, Chippendale\, NSW\, 2008\, Australia
CATEGORIES:Four Hands,Recent,The Private Kitchen
ATTACH;FMTTYPE=image/jpeg:https://olio.kensingtonstreet.com.au/wp-content/uploads/2019/03/KS_Event_Four-Hands_Paul-Longworth_1200x800px.jpg
END:VEVENT
END:VCALENDAR